BEGIN:VCALENDAR
VERSION:2.0
PRODID:-//AUSCP - ECPv6.15.20//NONSGML v1.0//EN
CALSCALE:GREGORIAN
METHOD:PUBLISH
X-WR-CALNAME:AUSCP
X-ORIGINAL-URL:https://auscp.org
X-WR-CALDESC:Events for AUSCP
REFRESH-INTERVAL;VALUE=DURATION:PT1H
X-Robots-Tag:noindex
X-PUBLISHED-TTL:PT1H
BEGIN:VTIMEZONE
TZID:America/Chicago
BEGIN:DAYLIGHT
TZOFFSETFROM:-0600
TZOFFSETTO:-0500
TZNAME:CDT
DTSTART:20220313T080000
END:DAYLIGHT
BEGIN:STANDARD
TZOFFSETFROM:-0500
TZOFFSETTO:-0600
TZNAME:CST
DTSTART:20221106T070000
END:STANDARD
BEGIN:DAYLIGHT
TZOFFSETFROM:-0600
TZOFFSETTO:-0500
TZNAME:CDT
DTSTART:20230312T080000
END:DAYLIGHT
BEGIN:STANDARD
TZOFFSETFROM:-0500
TZOFFSETTO:-0600
TZNAME:CST
DTSTART:20231105T070000
END:STANDARD
BEGIN:DAYLIGHT
TZOFFSETFROM:-0600
TZOFFSETTO:-0500
TZNAME:CDT
DTSTART:20240310T080000
END:DAYLIGHT
BEGIN:STANDARD
TZOFFSETFROM:-0500
TZOFFSETTO:-0600
TZNAME:CST
DTSTART:20241103T070000
END:STANDARD
END:VTIMEZONE
BEGIN:VEVENT
DTSTART;TZID=America/Chicago:20230223T160000
DTEND;TZID=America/Chicago:20230223T180000
DTSTAMP:20260420T104918
CREATED:20230123T204808Z
LAST-MODIFIED:20230213T143304Z
UID:16884-1677168000-1677175200@auscp.org
SUMMARY:A View From the Bench\, a Judge's Experience
DESCRIPTION:  \n                                                                                      \n      \n                                                                                             (Time of webinar is based on Eastern Time Zone) \n Jennifer Peyton was an immigration lawyer in Cleveland and taught immigration law at Cleveland State University-Marshall College of Law. In 2017 she began hearing immigration cases in Chicago.  The webinar will give Jenna time to give us her personal history and some comments on items submitted by the AUSCP Immigration Working Group and other areas of interest.  There will be a time for questions and comments in a controlled atmosphere. The webinar should be very informational in telling on the life of an immigration judge.
URL:https://auscp.org/event/a-view-from-the-bench-a-judges-experience/
LOCATION:Online\n United States
CATEGORIES:AUSCP Webinars
END:VEVENT
END:VCALENDAR