BEGIN:VCALENDAR
VERSION:2.0
PRODID:-//AUSCP - ECPv6.15.20//NONSGML v1.0//EN
CALSCALE:GREGORIAN
METHOD:PUBLISH
X-ORIGINAL-URL:https://auscp.org
X-WR-CALDESC:Events for AUSCP
REFRESH-INTERVAL;VALUE=DURATION:PT1H
X-Robots-Tag:noindex
X-PUBLISHED-TTL:PT1H
BEGIN:VTIMEZONE
TZID:America/New_York
BEGIN:DAYLIGHT
TZOFFSETFROM:-0500
TZOFFSETTO:-0400
TZNAME:EDT
DTSTART:20240310T070000
END:DAYLIGHT
BEGIN:STANDARD
TZOFFSETFROM:-0400
TZOFFSETTO:-0500
TZNAME:EST
DTSTART:20241103T060000
END:STANDARD
BEGIN:DAYLIGHT
TZOFFSETFROM:-0500
TZOFFSETTO:-0400
TZNAME:EDT
DTSTART:20250309T070000
END:DAYLIGHT
BEGIN:STANDARD
TZOFFSETFROM:-0400
TZOFFSETTO:-0500
TZNAME:EST
DTSTART:20251102T060000
END:STANDARD
BEGIN:DAYLIGHT
TZOFFSETFROM:-0500
TZOFFSETTO:-0400
TZNAME:EDT
DTSTART:20260308T070000
END:DAYLIGHT
BEGIN:STANDARD
TZOFFSETFROM:-0400
TZOFFSETTO:-0500
TZNAME:EST
DTSTART:20261101T060000
END:STANDARD
END:VTIMEZONE
BEGIN:VEVENT
DTSTART;TZID=America/New_York:20250506T180000
DTEND;TZID=America/New_York:20250506T191500
DTSTAMP:20260420T105429
CREATED:20250430T230149Z
LAST-MODIFIED:20250430T230149Z
UID:21010-1746554400-1746558900@auscp.org
SUMMARY:Remembering Pope Francis
DESCRIPTION:After the death of Pope Francis\, the Initiative on Catholic Social Thought and Public Life and the Office of Mission & Ministry at Georgetown University will bring people together to remember and reflect upon his faithful service\, courageous leadership\, and caring ministry. This dialogue will also explore his continuing impact and how Georgetown\, the Catholic Church\, our world\, and all of us can continue to advance his message: mercy in the Church\, justice in the economy\, care for God’s creation\, and peace in the world. \n\nThe mission and message of Pope Francis have been at the heart of the work of our Initiative since our founding in 2013. His challenging calls to encounter\, engagement\, discernment\, and dialogue reflect the Jesuit values at the heart of Georgetown. As we mourn his passing\, we thank God for his humble ways\, strong words\, and powerful example as our Holy Father. \nIn this dialogue\, we bring together leaders from our Initiative\, Georgetown\, and beyond to remember Pope Francis\, recall his leadership\, and reflect on how we can live out Pope Francis’ calls to share the “Joy of the Gospel” and seek “a better kind of politics” that lifts up the poor and vulnerable and pursues the common good. \nRev. Mark Bosco\, S.J.\, vice president for Mission & Ministry\, will open this Dahlgren Dialogue. John Carr\, founder of the Initiative on Catholic Social Thought and Public Life\, will moderate the dialogue. \nGeorgetown University’s Dahlgren Dialogues\, co-sponsored by the Office of Mission & Ministry and the Initiative on Catholic Social Thought and Public Life\, are a series of substantive conversations with experienced leaders in the context of prayerful reflection on current topics at the intersection of faith and public life.​ \nRecording\nThe dialogue starting at 6:00 p.m. EDT will be recorded and posted online for later viewing. \nPhoto by Tony Powell/Catholic Charities of the Archdiocese of Washington
URL:https://auscp.org/event/remembering-pope-francis/
LOCATION:Dahlgren Chapel of the Sacred Heart and Livestreamed\, 3790 OLD NORTH WAY NW\, Washington\, DC\, 20057\, United States
ATTACH;FMTTYPE=image/jpeg:https://auscp.org/wp-content/uploads/2025/04/pope.jpg
END:VEVENT
END:VCALENDAR