BEGIN:VCALENDAR
VERSION:2.0
PRODID:-//AUSCP - ECPv6.15.20//NONSGML v1.0//EN
CALSCALE:GREGORIAN
METHOD:PUBLISH
X-WR-CALNAME:AUSCP
X-ORIGINAL-URL:https://auscp.org
X-WR-CALDESC:Events for AUSCP
REFRESH-INTERVAL;VALUE=DURATION:PT1H
X-Robots-Tag:noindex
X-PUBLISHED-TTL:PT1H
BEGIN:VTIMEZONE
TZID:America/New_York
BEGIN:DAYLIGHT
TZOFFSETFROM:-0500
TZOFFSETTO:-0400
TZNAME:EDT
DTSTART:20240310T070000
END:DAYLIGHT
BEGIN:STANDARD
TZOFFSETFROM:-0400
TZOFFSETTO:-0500
TZNAME:EST
DTSTART:20241103T060000
END:STANDARD
BEGIN:DAYLIGHT
TZOFFSETFROM:-0500
TZOFFSETTO:-0400
TZNAME:EDT
DTSTART:20250309T070000
END:DAYLIGHT
BEGIN:STANDARD
TZOFFSETFROM:-0400
TZOFFSETTO:-0500
TZNAME:EST
DTSTART:20251102T060000
END:STANDARD
BEGIN:DAYLIGHT
TZOFFSETFROM:-0500
TZOFFSETTO:-0400
TZNAME:EDT
DTSTART:20260308T070000
END:DAYLIGHT
BEGIN:STANDARD
TZOFFSETFROM:-0400
TZOFFSETTO:-0500
TZNAME:EST
DTSTART:20261101T060000
END:STANDARD
END:VTIMEZONE
BEGIN:VEVENT
DTSTART;TZID=America/New_York:20250205T150000
DTEND;TZID=America/New_York:20250205T163000
DTSTAMP:20260425T114301
CREATED:20250122T135713Z
LAST-MODIFIED:20250122T185037Z
UID:20394-1738767600-1738773000@auscp.org
SUMMARY:Women and Priests-Conversations in the Spirit
DESCRIPTION:Event hosts\, the Women in the Church Working Group of the Association of U.S. Catholic Priests (AUSCP)\, seek to give space for listening deeply to the testimony of sisters and brothers who sometimes experience a judgmental Church instead of a listening and welcoming Church. \nThis call is being hosted in memory of Alana Chen. \nSpeakers:\nOur speakers are Yunuen Trujillo\, Rev. Bryan Massingale\, and Joyce Calvo. Bishop John Stowe will join us for Q and A and prayer. \nYunuen Trujillo is a Catholic lay minister\, faith-based community organizer\, and an immigration attorney with more than 15 years of experience in young adult ministry and a leading figure for inclusive Catholic LBGT Ministry in the United States. She is a Religious Formation Coordinator (Spanish) with the Catholic Ministry with Lesbian and Gay Persons of the Archdiocese of Los Angeles and author of the book LGBT Catholics: A Guide for Inclusive Ministry. \nBryan Massingale is a Catholic priest\, author\, activist\, and professor in Applied Christian Ethics at Fordham University. Fr.. Massingale has authored two books and more than 200 articles\, book chapters\, and book reviews. He is a co-editor of \, All of Us: A New Agenda for Catholic Theology from Queer Catholics of Color (Fortress Press\, 2024). He is a leading voice among Catholics advocating the full inclusion of LGBTQ persons in both society and the faith community. \nJoyce Calvo’s daughter Alana Chen died from suicide on Dec. 8\, 2019. Calvo continues to urge all to “stop rejecting LGBTQ+ children” She hopes her advocacy “will alert Catholic parents to beware of the devastating impact the Church can have on their LGBTQ+ children” and “persuade people speaking for the Church to abandon their misguided and dangerous attempts to alter what God has made.” \nSeeking Facilitators\nWe need facilitators for synodal Conversations in the Spirit. Indicate your interest when you register. A one-hour virtual training session is required and a Facilitator Briefing will be held on Feb. 3 at 6pm.
URL:https://auscp.org/event/women-and-priests-conversations-in-the-spirit-2/
LOCATION:Online
ATTACH;FMTTYPE=image/jpeg:https://auscp.org/wp-content/uploads/2025/01/Alana.jpg
END:VEVENT
END:VCALENDAR